BEGIN:VCALENDAR
VERSION:2.0
PRODID:-//Hawaii State Public Library System - ECPv6.15.11//NONSGML v1.0//EN
CALSCALE:GREGORIAN
METHOD:PUBLISH
X-ORIGINAL-URL:https://www.librarieshawaii.org
X-WR-CALDESC:Events for Hawaii State Public Library System
REFRESH-INTERVAL;VALUE=DURATION:PT1H
X-Robots-Tag:noindex
X-PUBLISHED-TTL:PT1H
BEGIN:VTIMEZONE
TZID:Pacific/Honolulu
BEGIN:STANDARD
TZOFFSETFROM:-1000
TZOFFSETTO:-1000
TZNAME:HST
DTSTART:20250101T000000
END:STANDARD
END:VTIMEZONE
BEGIN:VEVENT
DTSTART;TZID=Pacific/Honolulu:20260423T173000
DTEND;TZID=Pacific/Honolulu:20260423T183000
DTSTAMP:20260422T043053
CREATED:20260415T013028Z
LAST-MODIFIED:20260421T193525Z
UID:269059-1776965400-1776969000@www.librarieshawaii.org
SUMMARY:Ribbon Lei Workshop
DESCRIPTION:Need leis for graduation or grad parties?  Save money and customize by making your own!  Instruction will be provided to make a simple ribbon lei.  All  materials will be provided to make one lei in green and white (Aiea’s colors). \nAnyone who requires an auxiliary aid or service for effective communication\, or a modification of policies or procedures to participate in a program\, service\, or activity should contact library staff as soon as possible. Advance requests 48 hours or more before the event are encouraged\, but not required. All programs are subject to change. See a schedule of upcoming events on the HSPLS Events Calendar.
URL:https://www.librarieshawaii.org/event/ribbon-lei-workshop-2/
LOCATION:O‘ahu – ‘Aiea\, 99-374 Pohai Place\, ‘Aiea\, HI\, 96701\, United States
CATEGORIES:Arts & Crafts
ATTACH;FMTTYPE=image/jpeg:https://www.librarieshawaii.org/wp-content/uploads/2025/04/Single-Braided-Ribbon-Lei.jpg
GEO:21.3807668;-157.9270734
X-APPLE-STRUCTURED-LOCATION;VALUE=URI;X-ADDRESS=O‘ahu – ‘Aiea 99-374 Pohai Place ‘Aiea HI 96701 United States;X-APPLE-RADIUS=500;X-TITLE=99-374 Pohai Place:geo:-157.9270734,21.3807668
END:VEVENT
END:VCALENDAR