BEGIN:VCALENDAR
VERSION:2.0
PRODID:-//Hawaii State Public Library System - ECPv6.15.11//NONSGML v1.0//EN
CALSCALE:GREGORIAN
METHOD:PUBLISH
X-ORIGINAL-URL:https://www.librarieshawaii.org
X-WR-CALDESC:Events for Hawaii State Public Library System
REFRESH-INTERVAL;VALUE=DURATION:PT1H
X-Robots-Tag:noindex
X-PUBLISHED-TTL:PT1H
BEGIN:VTIMEZONE
TZID:Pacific/Honolulu
BEGIN:STANDARD
TZOFFSETFROM:-1000
TZOFFSETTO:-1000
TZNAME:HST
DTSTART:20250101T000000
END:STANDARD
END:VTIMEZONE
BEGIN:VEVENT
DTSTART;TZID=Pacific/Honolulu:20260422T090000
DTEND;TZID=Pacific/Honolulu:20260422T150000
DTSTAMP:20260422T064853
CREATED:20250807T232332Z
LAST-MODIFIED:20250807T232415Z
UID:245093-1776848400-1776870000@www.librarieshawaii.org
SUMMARY:Legal Aid Society of Hawaii
DESCRIPTION:Need Health Insurance? Legal Aid Society of Hawaii offers free help with enrolling families in Medicaid and Marketplace (Affordable Care Act) health insurance. \nAnyone who requires an auxiliary aid or service for effective communication\, or a modification of policies or procedures to participate in a program\, service or activity should contact library staff as soon as possible. Advance requests 48 hours or more before the event are encouraged\, but not required. Program schedule is subject to change.
URL:https://www.librarieshawaii.org/event/legal-aid-society-of-hawaii/2026-04-22/
LOCATION:O‘ahu – Liliha\, 1515 Liliha St\, Honolulu\, HI\, 96817\, United States
CATEGORIES:Community,Learning
ATTACH;FMTTYPE=image/png:https://www.librarieshawaii.org/wp-content/uploads/2025/02/Legal-Aid-Web-Graphic-460-x-345-px.png
GEO:21.3206537;-157.8603276
X-APPLE-STRUCTURED-LOCATION;VALUE=URI;X-ADDRESS=O‘ahu – Liliha 1515 Liliha St Honolulu HI 96817 United States;X-APPLE-RADIUS=500;X-TITLE=1515 Liliha St:geo:-157.8603276,21.3206537
END:VEVENT
BEGIN:VEVENT
DTSTART;TZID=Pacific/Honolulu:20260425T100000
DTEND;TZID=Pacific/Honolulu:20260425T113000
DTSTAMP:20260422T064853
CREATED:20250731T230844Z
LAST-MODIFIED:20260403T005941Z
UID:268310-1777111200-1777116600@www.librarieshawaii.org
SUMMARY:Read to a Therapy Dog
DESCRIPTION:Come visit Liliha Public Library on the 4th Saturday of every month to read to a therapy dog! This program is designed to give children a chance to enjoy reading aloud with no pressure and no judgment. ​ \nOffered in collaboration with K9 TheraPets. \nAnyone who requires an auxiliary aid or service for effective communication\, or a modification of policies or procedures to participate in a program\, service\, or activity should contact library staff as soon as possible. Advance requests 48 hours or more before the event are encouraged\, but not required. All programs are subject to change. See a schedule of upcoming events on the HSPLS Events Calendar.​​
URL:https://www.librarieshawaii.org/event/read-to-a-therapy-dog-3-2-3-2025-11-22/2026-04-25/
LOCATION:O‘ahu – Liliha\, 1515 Liliha St\, Honolulu\, HI\, 96817\, United States
CATEGORIES:Books,Learning,Reading programs
ATTACH;FMTTYPE=image/png:https://www.librarieshawaii.org/wp-content/uploads/2016/09/Vinnie-export-2.png
GEO:21.3206537;-157.8603276
X-APPLE-STRUCTURED-LOCATION;VALUE=URI;X-ADDRESS=O‘ahu – Liliha 1515 Liliha St Honolulu HI 96817 United States;X-APPLE-RADIUS=500;X-TITLE=1515 Liliha St:geo:-157.8603276,21.3206537
END:VEVENT
BEGIN:VEVENT
DTSTART;TZID=Pacific/Honolulu:20260502T100000
DTEND;TZID=Pacific/Honolulu:20260502T103000
DTSTAMP:20260422T064853
CREATED:20250807T224754Z
LAST-MODIFIED:20260108T222113Z
UID:245048-1777716000-1777717800@www.librarieshawaii.org
SUMMARY:Keiki Storytime with Daniel Kahikina Akaka Foundation\, Ohana 100
DESCRIPTION:Join us in hearing stories from a volunteer reader with Ohana 100\, DKAFF. As a part of Ohana 100\, DKAFF’s commitment to early literacy and education. Visit the library 4 times (you will receive a punch card) and you will be eligible to receive a free book from DKAFF! This program is suitable for children aged 0-5. \nProgram hosted in partnership with Ohana 100\, DKAFF. \nAnyone who requires an auxiliary aid or service for effective communication\, or a modification of policies or procedures to participate in a program\, service\, or activity should contact library staff as soon as possible. Advance requests 48 hours or more before the event are encouraged\, but not required.
URL:https://www.librarieshawaii.org/event/keiki-storytime-with-daniel-kahikina-akana-foundation-ohana-100/2026-05-02/
LOCATION:O‘ahu – Liliha\, 1515 Liliha St\, Honolulu\, HI\, 96817\, United States
CATEGORIES:Arts & Crafts,Books,Learning,Storytime (for kids)
ATTACH;FMTTYPE=image/jpeg:https://www.librarieshawaii.org/wp-content/uploads/2025/06/Ohana-100-DKAFF.jpg
GEO:21.3206537;-157.8603276
X-APPLE-STRUCTURED-LOCATION;VALUE=URI;X-ADDRESS=O‘ahu – Liliha 1515 Liliha St Honolulu HI 96817 United States;X-APPLE-RADIUS=500;X-TITLE=1515 Liliha St:geo:-157.8603276,21.3206537
END:VEVENT
END:VCALENDAR